BEGIN:VCALENDAR
PRODID:-//ICExport//EN
VERSION:2.0
BEGIN:VEVENT
SUMMARY;LANGUAGE=en-us:Board Meeting
CLASS:PUBLIC
CREATED:20260423T162823
DESCRIPTION:<br> https://membersonly.dpfp.org/Event/3952/Board-Meeting/event-details/
DTSTART:20261008T000000
DTEND:20261210T140000
SEQUENCE:0
UID:2da1a194-241c-4412-ad4d-24e06dd5fbfb
END:VEVENT
END:VCALENDAR
