BEGIN:VCALENDAR
PRODID:-//ICExport//EN
VERSION:2.0
BEGIN:VEVENT
SUMMARY;LANGUAGE=en-us:Board Meeting
CLASS:PUBLIC
CREATED:20260423T162940
DESCRIPTION:<br> https://membersonly.dpfp.org/Event/3951/Board-Meeting/event-details/
DTSTART:20260910T000000
DTEND:20261210T140000
SEQUENCE:0
UID:3b3c0a23-7f7d-4c25-9a88-d94924a5b560
END:VEVENT
END:VCALENDAR
