BEGIN:VCALENDAR
PRODID:-//ICExport//EN
VERSION:2.0
BEGIN:VEVENT
SUMMARY;LANGUAGE=en-us:Board Meeting
CLASS:PUBLIC
CREATED:20260423T162940
DESCRIPTION:<br> https://membersonly.dpfp.org/Event/3950/Board-Meeting/event-details/
DTSTART:20260813T000000
DTEND:20261210T140000
SEQUENCE:0
UID:ce4de927-a42f-421e-ae04-4055e3c18c4d
END:VEVENT
END:VCALENDAR
