BEGIN:VCALENDAR
PRODID:-//ICExport//EN
VERSION:2.0
BEGIN:VEVENT
SUMMARY;LANGUAGE=en-us:Board Meeting
CLASS:PUBLIC
CREATED:20260423T162914
DESCRIPTION:<br> https://membersonly.dpfp.org/Event/3947/Board-Meeting/event-details/
DTSTART:20260514T000000
DTEND:20261210T140000
SEQUENCE:0
UID:24ba27dd-6365-4ef5-9508-fb50a834a9e7
END:VEVENT
END:VCALENDAR
